BEGIN:VCALENDAR
VERSION:2.0
PRODID:-//Hang Black - ECPv6.15.12.2//NONSGML v1.0//EN
CALSCALE:GREGORIAN
METHOD:PUBLISH
X-WR-CALNAME:Hang Black
X-ORIGINAL-URL:https://hangwithhang.com
X-WR-CALDESC:Events for Hang Black
REFRESH-INTERVAL;VALUE=DURATION:PT1H
X-Robots-Tag:noindex
X-PUBLISHED-TTL:PT1H
BEGIN:VTIMEZONE
TZID:UTC
BEGIN:STANDARD
TZOFFSETFROM:+0000
TZOFFSETTO:+0000
TZNAME:UTC
DTSTART:20180101T000000
END:STANDARD
END:VTIMEZONE
BEGIN:VEVENT
DTSTART;TZID=UTC:20191104T080000
DTEND;TZID=UTC:20191104T170000
DTSTAMP:20260421T024400
CREATED:20190514T170529Z
LAST-MODIFIED:20190514T170529Z
UID:1142-1572854400-1572886800@hangwithhang.com
SUMMARY:Improving quality
DESCRIPTION:[vc_row][vc_column][vc_column_text]Lorem gravida nibh vel veliauctor aliquenean sollicitudin\, lorem quis bibendum auctor\, nisi elit consequat ipsutis sem nibh id elit. Duis sed odio sit amet nibh vulputate cursus a sit amet mauris. Morbi accumsan ipsum velit. Nam nec tellus a odio tincidunt auctor a ornare odio. Sed non mauris vitae erat consequat auctor eu in elit. Class aptent taciti sociosqu ad litora torquent per conubia nostra\, per inceptos himenaeos. Mauris in erat justo. Nullam ac urnamiumimus felis dapibus sit amet. Sed non neque elit. Lorem gravida nibh vel veliauctor aliquenean sollicitudin\, lorem quis auctor.[/vc_column_text][/vc_column][/vc_row]
URL:https://hangwithhang.com/event/improving-quality/
LOCATION:Businesswind\, Cambridge\, MA 02138\, USA\, United States
CATEGORIES:Business
ATTACH;FMTTYPE=image/jpeg:https://hangwithhang.com/wp-content/uploads/2019/05/about-me-event-03.jpg
ORGANIZER;CN="Cambridge University":MAILTO:everlead@mikado-themes.com
END:VEVENT
BEGIN:VEVENT
DTSTART;TZID=UTC:20190823T080000
DTEND;TZID=UTC:20190823T170000
DTSTAMP:20260421T024400
CREATED:20190514T165624Z
LAST-MODIFIED:20190514T165624Z
UID:1127-1566547200-1566579600@hangwithhang.com
SUMMARY:Next investment
DESCRIPTION:[vc_row][vc_column][vc_column_text]Lorem gravida nibh vel veliauctor aliquenean sollicitudin\, lorem quis bibendum auctor\, nisi elit consequat ipsutis sem nibh id elit. Duis sed odio sit amet nibh vulputate cursus a sit amet mauris. Morbi accumsan ipsum velit. Nam nec tellus a odio tincidunt auctor a ornare odio. Sed non mauris vitae erat consequat auctor eu in elit. Class aptent taciti sociosqu ad litora torquent per conubia nostra\, per inceptos himenaeos. Mauris in erat justo. Nullam ac urnamiumimus felis dapibus sit amet. Sed non neque elit. Lorem gravida nibh vel veliauctor aliquenean sollicitudin\, lorem quis auctor.[/vc_column_text][/vc_column][/vc_row]
URL:https://hangwithhang.com/event/next-investment/
LOCATION:Businesswind\, Cambridge\, MA 02138\, USA\, United States
CATEGORIES:Business
ATTACH;FMTTYPE=image/jpeg:https://hangwithhang.com/wp-content/uploads/2019/05/about-me-event-01.jpg
ORGANIZER;CN="Cambridge University":MAILTO:everlead@mikado-themes.com
END:VEVENT
BEGIN:VEVENT
DTSTART;TZID=UTC:20190819T080000
DTEND;TZID=UTC:20190819T170000
DTSTAMP:20260421T024400
CREATED:20190514T170442Z
LAST-MODIFIED:20190514T170442Z
UID:1138-1566201600-1566234000@hangwithhang.com
SUMMARY:Coaching technique
DESCRIPTION:[vc_row][vc_column][vc_column_text]Lorem gravida nibh vel veliauctor aliquenean sollicitudin\, lorem quis bibendum auctor\, nisi elit consequat ipsutis sem nibh id elit. Duis sed odio sit amet nibh vulputate cursus a sit amet mauris. Morbi accumsan ipsum velit. Nam nec tellus a odio tincidunt auctor a ornare odio. Sed non mauris vitae erat consequat auctor eu in elit. Class aptent taciti sociosqu ad litora torquent per conubia nostra\, per inceptos himenaeos. Mauris in erat justo. Nullam ac urnamiumimus felis dapibus sit amet. Sed non neque elit. Lorem gravida nibh vel veliauctor aliquenean sollicitudin\, lorem quis auctor.[/vc_column_text][/vc_column][/vc_row]
URL:https://hangwithhang.com/event/coaching-technique/
LOCATION:Businesswind\, Cambridge\, MA 02138\, USA\, United States
CATEGORIES:Business
ATTACH;FMTTYPE=image/jpeg:https://hangwithhang.com/wp-content/uploads/2019/05/about-me-event-02.jpg
ORGANIZER;CN="Cambridge University":MAILTO:everlead@mikado-themes.com
END:VEVENT
BEGIN:VEVENT
DTSTART;TZID=UTC:20190731T080000
DTEND;TZID=UTC:20190731T170000
DTSTAMP:20260421T024400
CREATED:20190514T171221Z
LAST-MODIFIED:20190514T171221Z
UID:1144-1564560000-1564592400@hangwithhang.com
SUMMARY:Practical Method
DESCRIPTION:[vc_row][vc_column][vc_column_text]Lorem gravida nibh vel veliauctor aliquenean sollicitudin\, lorem quis bibendum auctor\, nisi elit consequat ipsutis sem nibh id elit. Duis sed odio sit amet nibh vulputate cursus a sit amet mauris. Morbi accumsan ipsum velit. Nam nec tellus a odio tincidunt auctor a ornare odio. Sed non mauris vitae erat consequat auctor eu in elit. Class aptent taciti sociosqu ad litora torquent per conubia nostra\, per inceptos himenaeos. Mauris in erat justo. Nullam ac urnamiumimus felis dapibus sit amet. Sed non neque elit. Lorem gravida nibh vel veliauctor aliquenean sollicitudin\, lorem quis auctor.[/vc_column_text][/vc_column][/vc_row]
URL:https://hangwithhang.com/event/practical-method/
LOCATION:Businesswind\, Cambridge\, MA 02138\, USA\, United States
CATEGORIES:Business
ATTACH;FMTTYPE=image/jpeg:https://hangwithhang.com/wp-content/uploads/2019/05/about-me-event-04.jpg
ORGANIZER;CN="Cambridge University":MAILTO:everlead@mikado-themes.com
END:VEVENT
END:VCALENDAR