BEGIN:VCALENDAR
VERSION:2.0
PRODID:-//Hang Black - ECPv6.15.12.2//NONSGML v1.0//EN
CALSCALE:GREGORIAN
METHOD:PUBLISH
X-WR-CALNAME:Hang Black
X-ORIGINAL-URL:https://hangwithhang.com
X-WR-CALDESC:Events for Hang Black
REFRESH-INTERVAL;VALUE=DURATION:PT1H
X-Robots-Tag:noindex
X-PUBLISHED-TTL:PT1H
BEGIN:VTIMEZONE
TZID:UTC
BEGIN:STANDARD
TZOFFSETFROM:+0000
TZOFFSETTO:+0000
TZNAME:UTC
DTSTART:20180101T000000
END:STANDARD
END:VTIMEZONE
BEGIN:VEVENT
DTSTART;TZID=UTC:20190731T080000
DTEND;TZID=UTC:20190731T170000
DTSTAMP:20260421T064511
CREATED:20190514T171221Z
LAST-MODIFIED:20190514T171221Z
UID:1144-1564560000-1564592400@hangwithhang.com
SUMMARY:Practical Method
DESCRIPTION:[vc_row][vc_column][vc_column_text]Lorem gravida nibh vel veliauctor aliquenean sollicitudin\, lorem quis bibendum auctor\, nisi elit consequat ipsutis sem nibh id elit. Duis sed odio sit amet nibh vulputate cursus a sit amet mauris. Morbi accumsan ipsum velit. Nam nec tellus a odio tincidunt auctor a ornare odio. Sed non mauris vitae erat consequat auctor eu in elit. Class aptent taciti sociosqu ad litora torquent per conubia nostra\, per inceptos himenaeos. Mauris in erat justo. Nullam ac urnamiumimus felis dapibus sit amet. Sed non neque elit. Lorem gravida nibh vel veliauctor aliquenean sollicitudin\, lorem quis auctor.[/vc_column_text][/vc_column][/vc_row]
URL:https://hangwithhang.com/event/practical-method/
LOCATION:Businesswind\, Cambridge\, MA 02138\, USA\, United States
CATEGORIES:Business
ATTACH;FMTTYPE=image/jpeg:https://hangwithhang.com/wp-content/uploads/2019/05/about-me-event-04.jpg
ORGANIZER;CN="Cambridge University":MAILTO:everlead@mikado-themes.com
END:VEVENT
BEGIN:VEVENT
DTSTART;TZID=UTC:20190729T080000
DTEND;TZID=UTC:20190729T170000
DTSTAMP:20260421T064511
CREATED:20190513T184316Z
LAST-MODIFIED:20190513T184316Z
UID:935-1564387200-1564419600@hangwithhang.com
SUMMARY:Group Workshop
DESCRIPTION:[vc_row][vc_column][vc_column_text]Lorem gravida nibh vel veliauctor aliquenean sollicitudin\, lorem quis bibendum auctor\, nisi elit consequat ipsutis sem nibh id elit. Duis sed odio sit amet nibh vulputate cursus a sit amet mauris. Morbi accumsan ipsum velit. Nam nec tellus a odio tincidunt auctor a ornare odio. Sed non mauris vitae erat consequat auctor eu in elit. Class aptent taciti sociosqu ad litora torquent per conubia nostra\, per inceptos himenaeos. Mauris in erat justo. Nullam ac urnamiumimus felis dapibus sit amet. Sed non neque elit. Lorem gravida nibh vel veliauctor aliquenean sollicitudin\, lorem quis auctor.[/vc_column_text][/vc_column][/vc_row]
URL:https://hangwithhang.com/event/group-workshop/
LOCATION:Creative Leadership\, Cambridge\, MA 02138\, USA\, United States
CATEGORIES:Leadership
ATTACH;FMTTYPE=image/jpeg:https://hangwithhang.com/wp-content/uploads/2019/05/events-img-05.jpg
ORGANIZER;CN="Harvard Education":MAILTO:everlead@mikado-themes.com
END:VEVENT
BEGIN:VEVENT
DTSTART;TZID=UTC:20190726T090000
DTEND;TZID=UTC:20190726T170000
DTSTAMP:20260421T064511
CREATED:20190621T205231Z
LAST-MODIFIED:20190621T205231Z
UID:3585-1564131600-1564160400@hangwithhang.com
SUMMARY:Dublin Coaching
DESCRIPTION:[vc_row][vc_column][vc_column_text]Lorem gravida nibh vel veliauctor aliquenean sollicitudin\, lorem quis bibendum auctor\, nisi elit consequat ipsutis sem nibh id elit. Duis sed odio sit amet nibh vulputate cursus a sit amet mauris. Morbi accumsan ipsum velit. Nam nec tellus a odio tincidunt auctor a ornare odio. Sed non mauris vitae erat consequat auctor eu in elit. Class aptent taciti sociosqu ad litora torquent per conubia nostra\, per inceptos himenaeos. Mauris in erat justo. Nullam ac urnamiumimus felis dapibus sit amet. Sed non neque elit. Lorem gravida nibh vel veliauctor aliquenean sollicitudin\, lorem quis auctor.[/vc_column_text][/vc_column][/vc_row]
URL:https://hangwithhang.com/event/dublin-coaching/
LOCATION:Businesswind\, Cambridge\, MA 02138\, USA\, United States
CATEGORIES:Motivate
ATTACH;FMTTYPE=image/jpeg:https://hangwithhang.com/wp-content/uploads/2019/06/events-img-08.jpg
ORGANIZER;CN="Harvard Education":MAILTO:everlead@mikado-themes.com
END:VEVENT
BEGIN:VEVENT
DTSTART;TZID=UTC:20190724T090000
DTEND;TZID=UTC:20190724T170000
DTSTAMP:20260421T064511
CREATED:20190621T205152Z
LAST-MODIFIED:20190621T205152Z
UID:3583-1563958800-1563987600@hangwithhang.com
SUMMARY:Lisbon Coaching
DESCRIPTION:[vc_row][vc_column][vc_column_text]Lorem gravida nibh vel veliauctor aliquenean sollicitudin\, lorem quis bibendum auctor\, nisi elit consequat ipsutis sem nibh id elit. Duis sed odio sit amet nibh vulputate cursus a sit amet mauris. Morbi accumsan ipsum velit. Nam nec tellus a odio tincidunt auctor a ornare odio. Sed non mauris vitae erat consequat auctor eu in elit. Class aptent taciti sociosqu ad litora torquent per conubia nostra\, per inceptos himenaeos. Mauris in erat justo. Nullam ac urnamiumimus felis dapibus sit amet. Sed non neque elit. Lorem gravida nibh vel veliauctor aliquenean sollicitudin\, lorem quis auctor.[/vc_column_text][/vc_column][/vc_row]
URL:https://hangwithhang.com/event/lisbon-coaching/
LOCATION:Businesswind\, Cambridge\, MA 02138\, USA\, United States
CATEGORIES:Motivate
ATTACH;FMTTYPE=image/jpeg:https://hangwithhang.com/wp-content/uploads/2019/06/events-img-09.jpg
ORGANIZER;CN="Harvard Education":MAILTO:everlead@mikado-themes.com
END:VEVENT
BEGIN:VEVENT
DTSTART;TZID=UTC:20190722T090000
DTEND;TZID=UTC:20190722T170000
DTSTAMP:20260421T064511
CREATED:20190621T205105Z
LAST-MODIFIED:20190621T205105Z
UID:3581-1563786000-1563814800@hangwithhang.com
SUMMARY:Helsinki Coaching
DESCRIPTION:[vc_row][vc_column][vc_column_text]Lorem gravida nibh vel veliauctor aliquenean sollicitudin\, lorem quis bibendum auctor\, nisi elit consequat ipsutis sem nibh id elit. Duis sed odio sit amet nibh vulputate cursus a sit amet mauris. Morbi accumsan ipsum velit. Nam nec tellus a odio tincidunt auctor a ornare odio. Sed non mauris vitae erat consequat auctor eu in elit. Class aptent taciti sociosqu ad litora torquent per conubia nostra\, per inceptos himenaeos. Mauris in erat justo. Nullam ac urnamiumimus felis dapibus sit amet. Sed non neque elit. Lorem gravida nibh vel veliauctor aliquenean sollicitudin\, lorem quis auctor.[/vc_column_text][/vc_column][/vc_row]
URL:https://hangwithhang.com/event/helsinki-coaching/
LOCATION:Businesswind\, Cambridge\, MA 02138\, USA\, United States
CATEGORIES:Motivate
ATTACH;FMTTYPE=image/jpeg:https://hangwithhang.com/wp-content/uploads/2019/06/events-img-10.jpg
ORGANIZER;CN="Harvard Education":MAILTO:everlead@mikado-themes.com
END:VEVENT
BEGIN:VEVENT
DTSTART;TZID=UTC:20190719T090000
DTEND;TZID=UTC:20190719T170000
DTSTAMP:20260421T064511
CREATED:20190621T204955Z
LAST-MODIFIED:20190621T204955Z
UID:3579-1563526800-1563555600@hangwithhang.com
SUMMARY:Detroit Coaching
DESCRIPTION:[vc_row][vc_column][vc_column_text]Lorem gravida nibh vel veliauctor aliquenean sollicitudin\, lorem quis bibendum auctor\, nisi elit consequat ipsutis sem nibh id elit. Duis sed odio sit amet nibh vulputate cursus a sit amet mauris. Morbi accumsan ipsum velit. Nam nec tellus a odio tincidunt auctor a ornare odio. Sed non mauris vitae erat consequat auctor eu in elit. Class aptent taciti sociosqu ad litora torquent per conubia nostra\, per inceptos himenaeos. Mauris in erat justo. Nullam ac urnamiumimus felis dapibus sit amet. Sed non neque elit. Lorem gravida nibh vel veliauctor aliquenean sollicitudin\, lorem quis auctor.[/vc_column_text][/vc_column][/vc_row]
URL:https://hangwithhang.com/event/detroit-coaching/
LOCATION:Businesswind\, Cambridge\, MA 02138\, USA\, United States
CATEGORIES:Motivate
ATTACH;FMTTYPE=image/jpeg:https://hangwithhang.com/wp-content/uploads/2019/06/events-img-19.jpg
ORGANIZER;CN="Harvard Education":MAILTO:everlead@mikado-themes.com
END:VEVENT
BEGIN:VEVENT
DTSTART;TZID=UTC:20190717T090000
DTEND;TZID=UTC:20190717T170000
DTSTAMP:20260421T064511
CREATED:20190621T204835Z
LAST-MODIFIED:20190621T204835Z
UID:3577-1563354000-1563382800@hangwithhang.com
SUMMARY:Austin Coaching
DESCRIPTION:[vc_row][vc_column][vc_column_text]Lorem gravida nibh vel veliauctor aliquenean sollicitudin\, lorem quis bibendum auctor\, nisi elit consequat ipsutis sem nibh id elit. Duis sed odio sit amet nibh vulputate cursus a sit amet mauris. Morbi accumsan ipsum velit. Nam nec tellus a odio tincidunt auctor a ornare odio. Sed non mauris vitae erat consequat auctor eu in elit. Class aptent taciti sociosqu ad litora torquent per conubia nostra\, per inceptos himenaeos. Mauris in erat justo. Nullam ac urnamiumimus felis dapibus sit amet. Sed non neque elit. Lorem gravida nibh vel veliauctor aliquenean sollicitudin\, lorem quis auctor.[/vc_column_text][/vc_column][/vc_row]
URL:https://hangwithhang.com/event/austin-coaching/
LOCATION:Businesswind\, Cambridge\, MA 02138\, USA\, United States
CATEGORIES:Motivate
ATTACH;FMTTYPE=image/jpeg:https://hangwithhang.com/wp-content/uploads/2019/06/events-img-18.jpg
ORGANIZER;CN="Harvard Education":MAILTO:everlead@mikado-themes.com
END:VEVENT
BEGIN:VEVENT
DTSTART;TZID=UTC:20190715T090000
DTEND;TZID=UTC:20190715T170000
DTSTAMP:20260421T064511
CREATED:20190621T204749Z
LAST-MODIFIED:20190621T204749Z
UID:3575-1563181200-1563210000@hangwithhang.com
SUMMARY:Miami Coaching
DESCRIPTION:[vc_row][vc_column][vc_column_text]Lorem gravida nibh vel veliauctor aliquenean sollicitudin\, lorem quis bibendum auctor\, nisi elit consequat ipsutis sem nibh id elit. Duis sed odio sit amet nibh vulputate cursus a sit amet mauris. Morbi accumsan ipsum velit. Nam nec tellus a odio tincidunt auctor a ornare odio. Sed non mauris vitae erat consequat auctor eu in elit. Class aptent taciti sociosqu ad litora torquent per conubia nostra\, per inceptos himenaeos. Mauris in erat justo. Nullam ac urnamiumimus felis dapibus sit amet. Sed non neque elit. Lorem gravida nibh vel veliauctor aliquenean sollicitudin\, lorem quis auctor.[/vc_column_text][/vc_column][/vc_row]
URL:https://hangwithhang.com/event/miami-coaching/
LOCATION:Businesswind\, Cambridge\, MA 02138\, USA\, United States
CATEGORIES:Motivate
ATTACH;FMTTYPE=image/jpeg:https://hangwithhang.com/wp-content/uploads/2019/06/events-img-17.jpg
ORGANIZER;CN="Harvard Education":MAILTO:everlead@mikado-themes.com
END:VEVENT
BEGIN:VEVENT
DTSTART;TZID=UTC:20190712T090000
DTEND;TZID=UTC:20190712T170000
DTSTAMP:20260421T064511
CREATED:20190621T204258Z
LAST-MODIFIED:20190621T204258Z
UID:3573-1562922000-1562950800@hangwithhang.com
SUMMARY:Denver Coaching
DESCRIPTION:[vc_row][vc_column][vc_column_text]Lorem gravida nibh vel veliauctor aliquenean sollicitudin\, lorem quis bibendum auctor\, nisi elit consequat ipsutis sem nibh id elit. Duis sed odio sit amet nibh vulputate cursus a sit amet mauris. Morbi accumsan ipsum velit. Nam nec tellus a odio tincidunt auctor a ornare odio. Sed non mauris vitae erat consequat auctor eu in elit. Class aptent taciti sociosqu ad litora torquent per conubia nostra\, per inceptos himenaeos. Mauris in erat justo. Nullam ac urnamiumimus felis dapibus sit amet. Sed non neque elit. Lorem gravida nibh vel veliauctor aliquenean sollicitudin\, lorem quis auctor.[/vc_column_text][/vc_column][/vc_row]
URL:https://hangwithhang.com/event/denver-coaching/
LOCATION:Businesswind\, Cambridge\, MA 02138\, USA\, United States
CATEGORIES:Motivate
ATTACH;FMTTYPE=image/jpeg:https://hangwithhang.com/wp-content/uploads/2019/06/events-img-16.jpg
ORGANIZER;CN="Harvard Education":MAILTO:everlead@mikado-themes.com
END:VEVENT
BEGIN:VEVENT
DTSTART;TZID=UTC:20190710T090000
DTEND;TZID=UTC:20190710T170000
DTSTAMP:20260421T064511
CREATED:20190621T204209Z
LAST-MODIFIED:20190621T204209Z
UID:3571-1562749200-1562778000@hangwithhang.com
SUMMARY:Seattle Coaching
DESCRIPTION:[vc_row][vc_column][vc_column_text]Lorem gravida nibh vel veliauctor aliquenean sollicitudin\, lorem quis bibendum auctor\, nisi elit consequat ipsutis sem nibh id elit. Duis sed odio sit amet nibh vulputate cursus a sit amet mauris. Morbi accumsan ipsum velit. Nam nec tellus a odio tincidunt auctor a ornare odio. Sed non mauris vitae erat consequat auctor eu in elit. Class aptent taciti sociosqu ad litora torquent per conubia nostra\, per inceptos himenaeos. Mauris in erat justo. Nullam ac urnamiumimus felis dapibus sit amet. Sed non neque elit. Lorem gravida nibh vel veliauctor aliquenean sollicitudin\, lorem quis auctor.[/vc_column_text][/vc_column][/vc_row]
URL:https://hangwithhang.com/event/seattle-coaching/
LOCATION:Businesswind\, Cambridge\, MA 02138\, USA\, United States
CATEGORIES:Motivate
ATTACH;FMTTYPE=image/jpeg:https://hangwithhang.com/wp-content/uploads/2019/06/events-img-15.jpg
ORGANIZER;CN="Harvard Education":MAILTO:everlead@mikado-themes.com
END:VEVENT
BEGIN:VEVENT
DTSTART;TZID=UTC:20190708T090000
DTEND;TZID=UTC:20190708T170000
DTSTAMP:20260421T064511
CREATED:20190621T204051Z
LAST-MODIFIED:20190621T204051Z
UID:3569-1562576400-1562605200@hangwithhang.com
SUMMARY:Boston Coaching
DESCRIPTION:[vc_row][vc_column][vc_column_text]Lorem gravida nibh vel veliauctor aliquenean sollicitudin\, lorem quis bibendum auctor\, nisi elit consequat ipsutis sem nibh id elit. Duis sed odio sit amet nibh vulputate cursus a sit amet mauris. Morbi accumsan ipsum velit. Nam nec tellus a odio tincidunt auctor a ornare odio. Sed non mauris vitae erat consequat auctor eu in elit. Class aptent taciti sociosqu ad litora torquent per conubia nostra\, per inceptos himenaeos. Mauris in erat justo. Nullam ac urnamiumimus felis dapibus sit amet. Sed non neque elit. Lorem gravida nibh vel veliauctor aliquenean sollicitudin\, lorem quis auctor.[/vc_column_text][/vc_column][/vc_row]
URL:https://hangwithhang.com/event/boston-coaching/
LOCATION:Businesswind\, Cambridge\, MA 02138\, USA\, United States
CATEGORIES:Motivate
ATTACH;FMTTYPE=image/jpeg:https://hangwithhang.com/wp-content/uploads/2019/06/events-img-14.jpg
ORGANIZER;CN="Harvard Education":MAILTO:everlead@mikado-themes.com
END:VEVENT
BEGIN:VEVENT
DTSTART;TZID=UTC:20190705T090000
DTEND;TZID=UTC:20190705T170000
DTSTAMP:20260421T064511
CREATED:20190621T203906Z
LAST-MODIFIED:20190621T203906Z
UID:3567-1562317200-1562346000@hangwithhang.com
SUMMARY:Chicago Coaching
DESCRIPTION:[vc_row][vc_column][vc_column_text]Lorem gravida nibh vel veliauctor aliquenean sollicitudin\, lorem quis bibendum auctor\, nisi elit consequat ipsutis sem nibh id elit. Duis sed odio sit amet nibh vulputate cursus a sit amet mauris. Morbi accumsan ipsum velit. Nam nec tellus a odio tincidunt auctor a ornare odio. Sed non mauris vitae erat consequat auctor eu in elit. Class aptent taciti sociosqu ad litora torquent per conubia nostra\, per inceptos himenaeos. Mauris in erat justo. Nullam ac urnamiumimus felis dapibus sit amet. Sed non neque elit. Lorem gravida nibh vel veliauctor aliquenean sollicitudin\, lorem quis auctor.[/vc_column_text][/vc_column][/vc_row]
URL:https://hangwithhang.com/event/chicago-coaching/
LOCATION:Businesswind\, Cambridge\, MA 02138\, USA\, United States
CATEGORIES:Motivate
ATTACH;FMTTYPE=image/jpeg:https://hangwithhang.com/wp-content/uploads/2019/06/events-img-13.jpg
ORGANIZER;CN="Harvard Education":MAILTO:everlead@mikado-themes.com
END:VEVENT
BEGIN:VEVENT
DTSTART;TZID=UTC:20190703T090000
DTEND;TZID=UTC:20190703T170000
DTSTAMP:20260421T064511
CREATED:20190621T203818Z
LAST-MODIFIED:20190621T203818Z
UID:3565-1562144400-1562173200@hangwithhang.com
SUMMARY:San Francisco Coaching
DESCRIPTION:[vc_row][vc_column][vc_column_text]Lorem gravida nibh vel veliauctor aliquenean sollicitudin\, lorem quis bibendum auctor\, nisi elit consequat ipsutis sem nibh id elit. Duis sed odio sit amet nibh vulputate cursus a sit amet mauris. Morbi accumsan ipsum velit. Nam nec tellus a odio tincidunt auctor a ornare odio. Sed non mauris vitae erat consequat auctor eu in elit. Class aptent taciti sociosqu ad litora torquent per conubia nostra\, per inceptos himenaeos. Mauris in erat justo. Nullam ac urnamiumimus felis dapibus sit amet. Sed non neque elit. Lorem gravida nibh vel veliauctor aliquenean sollicitudin\, lorem quis auctor.[/vc_column_text][/vc_column][/vc_row]
URL:https://hangwithhang.com/event/san-francisco-coaching/
LOCATION:Businesswind\, Cambridge\, MA 02138\, USA\, United States
CATEGORIES:Motivate
ATTACH;FMTTYPE=image/jpeg:https://hangwithhang.com/wp-content/uploads/2019/06/events-img-12.jpg
ORGANIZER;CN="Harvard Education":MAILTO:everlead@mikado-themes.com
END:VEVENT
BEGIN:VEVENT
DTSTART;TZID=UTC:20190701T090000
DTEND;TZID=UTC:20190701T170000
DTSTAMP:20260421T064511
CREATED:20190621T203648Z
LAST-MODIFIED:20190621T203648Z
UID:3562-1561971600-1562000400@hangwithhang.com
SUMMARY:Washington Coaching
DESCRIPTION:[vc_row][vc_column][vc_column_text]Lorem gravida nibh vel veliauctor aliquenean sollicitudin\, lorem quis bibendum auctor\, nisi elit consequat ipsutis sem nibh id elit. Duis sed odio sit amet nibh vulputate cursus a sit amet mauris. Morbi accumsan ipsum velit. Nam nec tellus a odio tincidunt auctor a ornare odio. Sed non mauris vitae erat consequat auctor eu in elit. Class aptent taciti sociosqu ad litora torquent per conubia nostra\, per inceptos himenaeos. Mauris in erat justo. Nullam ac urnamiumimus felis dapibus sit amet. Sed non neque elit. Lorem gravida nibh vel veliauctor aliquenean sollicitudin\, lorem quis auctor.[/vc_column_text][/vc_column][/vc_row]
URL:https://hangwithhang.com/event/washington-coaching/
LOCATION:Businesswind\, Cambridge\, MA 02138\, USA\, United States
CATEGORIES:Motivate
ATTACH;FMTTYPE=image/jpeg:https://hangwithhang.com/wp-content/uploads/2019/06/events-img-11.jpg
ORGANIZER;CN="Harvard Education":MAILTO:everlead@mikado-themes.com
END:VEVENT
BEGIN:VEVENT
DTSTART;TZID=UTC:20190628T090000
DTEND;TZID=UTC:20190628T170000
DTSTAMP:20260421T064511
CREATED:20190617T211401Z
LAST-MODIFIED:20190617T211401Z
UID:3252-1561712400-1561741200@hangwithhang.com
SUMMARY:Paris Coaching
DESCRIPTION:[vc_row][vc_column][vc_column_text]Lorem gravida nibh vel veliauctor aliquenean sollicitudin\, lorem quis bibendum auctor\, nisi elit consequat ipsutis sem nibh id elit. Duis sed odio sit amet nibh vulputate cursus a sit amet mauris. Morbi accumsan ipsum velit. Nam nec tellus a odio tincidunt auctor a ornare odio. Sed non mauris vitae erat consequat auctor eu in elit. Class aptent taciti sociosqu ad litora torquent per conubia nostra\, per inceptos himenaeos. Mauris in erat justo. Nullam ac urnamiumimus felis dapibus sit amet. Sed non neque elit. Lorem gravida nibh vel veliauctor aliquenean sollicitudin\, lorem quis auctor.[/vc_column_text][/vc_column][/vc_row]
URL:https://hangwithhang.com/event/paris-coaching/
LOCATION:Businesswind\, Cambridge\, MA 02138\, USA\, United States
CATEGORIES:Event
ATTACH;FMTTYPE=image/jpeg:https://hangwithhang.com/wp-content/uploads/2019/06/events-img-08.jpg
ORGANIZER;CN="Harvard Education":MAILTO:everlead@mikado-themes.com
END:VEVENT
BEGIN:VEVENT
DTSTART;TZID=UTC:20190626T090000
DTEND;TZID=UTC:20190626T170000
DTSTAMP:20260421T064511
CREATED:20190617T211446Z
LAST-MODIFIED:20190617T211446Z
UID:3254-1561539600-1561568400@hangwithhang.com
SUMMARY:Moscow Coaching
DESCRIPTION:[vc_row][vc_column][vc_column_text]Lorem gravida nibh vel veliauctor aliquenean sollicitudin\, lorem quis bibendum auctor\, nisi elit consequat ipsutis sem nibh id elit. Duis sed odio sit amet nibh vulputate cursus a sit amet mauris. Morbi accumsan ipsum velit. Nam nec tellus a odio tincidunt auctor a ornare odio. Sed non mauris vitae erat consequat auctor eu in elit. Class aptent taciti sociosqu ad litora torquent per conubia nostra\, per inceptos himenaeos. Mauris in erat justo. Nullam ac urnamiumimus felis dapibus sit amet. Sed non neque elit. Lorem gravida nibh vel veliauctor aliquenean sollicitudin\, lorem quis auctor.[/vc_column_text][/vc_column][/vc_row]
URL:https://hangwithhang.com/event/moscow-coaching/
LOCATION:Businesswind\, Cambridge\, MA 02138\, USA\, United States
CATEGORIES:Event
ATTACH;FMTTYPE=image/jpeg:https://hangwithhang.com/wp-content/uploads/2019/06/events-img-09.jpg
ORGANIZER;CN="Harvard Education":MAILTO:everlead@mikado-themes.com
END:VEVENT
BEGIN:VEVENT
DTSTART;TZID=UTC:20190624T090000
DTEND;TZID=UTC:20190624T170000
DTSTAMP:20260421T064511
CREATED:20190617T211519Z
LAST-MODIFIED:20190617T211519Z
UID:3256-1561366800-1561395600@hangwithhang.com
SUMMARY:Berlin Coaching
DESCRIPTION:[vc_row][vc_column][vc_column_text]Lorem gravida nibh vel veliauctor aliquenean sollicitudin\, lorem quis bibendum auctor\, nisi elit consequat ipsutis sem nibh id elit. Duis sed odio sit amet nibh vulputate cursus a sit amet mauris. Morbi accumsan ipsum velit. Nam nec tellus a odio tincidunt auctor a ornare odio. Sed non mauris vitae erat consequat auctor eu in elit. Class aptent taciti sociosqu ad litora torquent per conubia nostra\, per inceptos himenaeos. Mauris in erat justo. Nullam ac urnamiumimus felis dapibus sit amet. Sed non neque elit. Lorem gravida nibh vel veliauctor aliquenean sollicitudin\, lorem quis auctor.[/vc_column_text][/vc_column][/vc_row]
URL:https://hangwithhang.com/event/berlin-coaching/
LOCATION:Businesswind\, Cambridge\, MA 02138\, USA\, United States
CATEGORIES:Event
ATTACH;FMTTYPE=image/jpeg:https://hangwithhang.com/wp-content/uploads/2019/06/events-img-10.jpg
ORGANIZER;CN="Harvard Education":MAILTO:everlead@mikado-themes.com
END:VEVENT
END:VCALENDAR